BEGIN:VCALENDAR
VERSION:2.0
PRODID:-//Alison Goodman - ECPv6.15.20//NONSGML v1.0//EN
CALSCALE:GREGORIAN
METHOD:PUBLISH
X-ORIGINAL-URL:https://www.alisongoodman.com.au
X-WR-CALDESC:Events for Alison Goodman
REFRESH-INTERVAL;VALUE=DURATION:PT1H
X-Robots-Tag:noindex
X-PUBLISHED-TTL:PT1H
BEGIN:VTIMEZONE
TZID:UTC
BEGIN:STANDARD
TZOFFSETFROM:+0000
TZOFFSETTO:+0000
TZNAME:UTC
DTSTART:20230101T000000
END:STANDARD
END:VTIMEZONE
BEGIN:VEVENT
DTSTART;TZID=UTC:20250528T180000
DTEND;TZID=UTC:20250528T193000
DTSTAMP:20260423T151252
CREATED:20250506T085327Z
LAST-MODIFIED:20250506T085329Z
UID:1313-1748455200-1748460600@www.alisongoodman.com.au
SUMMARY:Ballarat – In conversation with Alison Goodman
DESCRIPTION:The Ladies Road Guide to Utter Ruin is the second book in the fiercely fun Ill-Mannered Ladies series. Join Alison Goodman as she discusses all things Regency and mystery at the Old Colonists Club in Ballarat. PLEASE NOTE\, THE START TIME HAS CHANGED TO THE EARLIER 6PM.
URL:https://www.alisongoodman.com.au/event/ballarat-in-conversation-with-alison-goodman/
LOCATION:Old Colonists Club\, 16 Lydiard Street North\, Ballarat\, Victoria
END:VEVENT
BEGIN:VEVENT
DTSTART;TZID=UTC:20250516T173000
DTEND;TZID=UTC:20250516T200000
DTSTAMP:20260423T151252
CREATED:20250506T091316Z
LAST-MODIFIED:20250506T091318Z
UID:1324-1747416600-1747425600@www.alisongoodman.com.au
SUMMARY:Friends of Euroa Library: The Regency Roadshow
DESCRIPTION:Join authors Alison Goodman (The Ladies Road Guide to Utter Ruin)\, and co-authors Kelly Gardiner and Sharmini Kumar (Miss Caroline Bingley\, Private Detective) as they discuss all things Austenesque and their new mystery novels set in the Regency period.
URL:https://www.alisongoodman.com.au/event/friends-of-euroa-library-the-regency-roadshow/
END:VEVENT
BEGIN:VEVENT
DTSTART;TZID=UTC:20250514T183000
DTEND;TZID=UTC:20250514T200000
DTSTAMP:20260423T151252
CREATED:20250506T090924Z
LAST-MODIFIED:20250506T090926Z
UID:1318-1747247400-1747252800@www.alisongoodman.com.au
SUMMARY:Alison Goodman's The Ladies Road Guide to Utter Ruin at Beaumaris Library
DESCRIPTION:Join Alison Goodman in conversation with Kelly Gardiner about all things Regency and her new novel\, The Ladies Road Guide to Utter Ruin\, the second in the Ill-Mannered Ladies series.
URL:https://www.alisongoodman.com.au/event/alison-goodmans-the-ladies-road-guide-to-utter-ruin-at-beaumaris-library/
LOCATION:Beaumaris Library\, 96 reserve Road\, Beaumaris
END:VEVENT
BEGIN:VEVENT
DTSTART;TZID=UTC:20250510T143000
DTEND;TZID=UTC:20250510T170000
DTSTAMP:20260423T151252
CREATED:20250506T083926Z
LAST-MODIFIED:20250506T084434Z
UID:1305-1746887400-1746896400@www.alisongoodman.com.au
SUMMARY:A Very Austen Afternoon Tea
DESCRIPTION:Join best selling authors Alison Goodman and Kelly Gardiner in conversation with Katrina Nannestad to discuss all things Austenesque –– mystery\, manners and the role of women in the Regency period. Your event ticket includes this fascinating author talk and a glass of bubbly on arrival\, followed by a lush afternoon tea of canapes\, sweet treats\, tea and coffee.
URL:https://www.alisongoodman.com.au/event/a-very-austen-afternoon-tea/
LOCATION:McKenzie Quarters\, Bendigo\, 10-12 MacKenzie Street\, Bendigo\, Victoria\, 3550
END:VEVENT
BEGIN:VEVENT
DTSTART;TZID=UTC:20250508T190000
DTEND;TZID=UTC:20250508T203000
DTSTAMP:20260423T151252
CREATED:20250506T083130Z
LAST-MODIFIED:20250506T083132Z
UID:1297-1746730800-1746736200@www.alisongoodman.com.au
SUMMARY:Author Talk: in-conversation with Kelly Gardiner at Ulysses Bookshop\, Hampton
DESCRIPTION:To celebrate the release of the second book in the Ill-Mannered Ladies series\, The Ladies Road Guide to Utter Ruin\, Alison Goodman will be in-conversation with Kelly Gardiner about all things Regency and mystery.
URL:https://www.alisongoodman.com.au/event/author-talk-in-conversation-with-kelly-gardiner-at-ulysses-bookshop-hampton/
LOCATION:Ulysses Bookshop\, Shop1\, 498 Hampton Street\, Hampton\, Victoria
END:VEVENT
BEGIN:VEVENT
DTSTART;TZID=UTC:20241102T000000
DTEND;TZID=UTC:20241102T235959
DTSTAMP:20260423T151252
CREATED:20240515T050645Z
LAST-MODIFIED:20240515T050648Z
UID:1233-1730505600-1730591999@www.alisongoodman.com.au
SUMMARY:Book Fair Australia 2024
DESCRIPTION:Book Fair Australia is a literary festival that celebrates stories of all genres. \n\n\n\nI will be appearing at the Fair on Saturday 2nd November only. \n\n\n\nBook Fair Australia welcomes traditionally and independently published authors alike to share their diverse range through dedicated stalls\, discussion panels\, workshops and more. A thrilling weekend fit for any book lover\, come by with friends and family to get your books signed and explore a world of storytelling right in Sydney.
URL:https://www.alisongoodman.com.au/event/book-fair-australia-2024/
LOCATION:Sydney Showground\, 1 Showground Road\, Sydney Olympic park\, Sydney
END:VEVENT
BEGIN:VEVENT
DTSTART;TZID=UTC:20241101T183000
DTEND;TZID=UTC:20241101T200000
DTSTAMP:20260423T151252
CREATED:20240815T050448Z
LAST-MODIFIED:20240815T050650Z
UID:1256-1730485800-1730491200@www.alisongoodman.com.au
SUMMARY:In Conversation at Better Read Than Dead Bookshop\, Newtown\, Sydney
DESCRIPTION:Alison Goodman in-conversation with Mischa Parkee \n\n\n\n\n \n\n\n\n\n\n\nJoin us with Alison Goodman to discuss The Benevolent Society of Ill-Mannered Ladies!
URL:https://www.alisongoodman.com.au/event/in-conversation-at-better-read-than-dead-bookshop-newtown-sydney/
LOCATION:Better Read Than Dead\, 65 King Street\, Newtown\, NSW\, 2042\, Australia
END:VEVENT
BEGIN:VEVENT
DTSTART;TZID=UTC:20240810T140000
DTEND;TZID=UTC:20240810T153000
DTSTAMP:20260423T151252
CREATED:20240731T044618Z
LAST-MODIFIED:20240731T044620Z
UID:1252-1723298400-1723303800@www.alisongoodman.com.au
SUMMARY:Shepparton Library Author Talk
DESCRIPTION:Come along and hear about my road to a full-time writing career\, some of the very good and very bad luck along the way\, and the five things I think a writer needs to survive in today’s publishing world.
URL:https://www.alisongoodman.com.au/event/shepparton-library-author-talk/
LOCATION:Shepparton Library\, 79 Benalla Road\, Shepparton\, Victoria\, 3630\, Australia
END:VEVENT
BEGIN:VEVENT
DTSTART;TZID=UTC:20240803T103000
DTEND;TZID=UTC:20240803T113000
DTSTAMP:20260423T151252
CREATED:20240731T043950Z
LAST-MODIFIED:20240731T044122Z
UID:1245-1722681000-1722684600@www.alisongoodman.com.au
SUMMARY:Stonnington Library Author Talk at Phoenix Park Library
DESCRIPTION:Come along to hear about how I first got published\, some of the very good and very bad luck that has happened along the way\, and the five things I think every writer needs in today’s publishing world.
URL:https://www.alisongoodman.com.au/event/stonnington-library-author-talk-at-phonenix-park-library/
LOCATION:Phoenix Park Library\, 30 Rob Roy Road\, Malvern East\, 30 Roby Roy Road\, Malvern East\, Victoria\, 3145
END:VEVENT
BEGIN:VEVENT
DTSTART;TZID=UTC:20240727T120000
DTEND;TZID=UTC:20240727T133000
DTSTAMP:20260423T151252
CREATED:20240704T051638Z
LAST-MODIFIED:20240704T051641Z
UID:1243-1722081600-1722087000@www.alisongoodman.com.au
SUMMARY:Author Talk at Traralgon Library
DESCRIPTION:New York times bestselling author Alison Goodman will speak about the four qualities you need for a writing career in Australia\, the process of publication and how to get your name up on a  billboard in Times Square.
URL:https://www.alisongoodman.com.au/event/author-talk-at-traralgon-library/
END:VEVENT
BEGIN:VEVENT
DTSTART;TZID=UTC:20240720T123000
DTEND;TZID=UTC:20240720T130000
DTSTAMP:20260423T151252
CREATED:20240704T051120Z
LAST-MODIFIED:20240704T051122Z
UID:1239-1721478600-1721480400@www.alisongoodman.com.au
SUMMARY:In Conversation at Ballarat Library
DESCRIPTION:Hear historical fiction author (and Warm Winter Reads ambassador)\, Alison Goodman\, discuss her latest book\, The Benevolent Society of Ill-Mannered Ladies\, with fellow author\, Jason Nahrung. \n\n\n\nThey will discuss the way Alison Goodman weaves mystery\, humour\, adventure and female-lead action into her regency era work and the challenges that can arise. They will also explore ways of bringing to life other worlds and creating character-rich narratives. \n\n\n\nThis In Conversation is for any historical fiction fan\, budding author\, or anyone interested in hearing from this New York Times bestselling author.
URL:https://www.alisongoodman.com.au/event/in-conversation-at-ballarat-library/
LOCATION:Ballarat Library
END:VEVENT
END:VCALENDAR